BEGIN:VCALENDAR
PRODID:-//AT Content Types//AT Event//EN
VERSION:1.0
BEGIN:VEVENT
DTSTART:20190118T080000Z
DTEND:20190118T093000Z
DCREATED:20181210T091332Z
UID:ATEvent-f2730b7638db403585e55ec34d3758be
SEQUENCE:0
LAST-MODIFIED:20181210T091347Z
SUMMARY:MTH-NTS
LOCATION:Lecture Room D
PRIORITY:3
TRANSP:0
END:VEVENT
END:VCALENDAR
