BEGIN:VCALENDAR
PRODID:-//AT Content Types//AT Event//EN
VERSION:2.0
METHOD:PUBLISH
BEGIN:VEVENT
DTSTAMP:20260423T235234Z
CREATED:20151022T102406Z
UID:ATEvent-1b9c16724bdd485ea51d5f010a543cab
LAST-MODIFIED:20151022T102502Z
SUMMARY:MTH-INT tut.
DTSTART:20151103T150000Z
DTEND:20151103T163000Z
LOCATION:Lecture Room D
CONTACT:V. Bussi
URL:https://diploma-clear.ictp.it/courses/weekly-schedule/lecture-room-d/mth-int-tut-1
CLASS:PUBLIC
END:VEVENT
END:VCALENDAR
