BEGIN:VCALENDAR
PRODID:-//AT Content Types//AT Event//EN
VERSION:1.0
BEGIN:VEVENT
DTSTART:20230216T100000Z
DTEND:20230216T113000Z
DCREATED:20221122T101442Z
UID:ATEvent-a928ab3b5b7247b896dab738b4544789
SEQUENCE:0
LAST-MODIFIED:20221122T101515Z
SUMMARY:MTH-FA midterm test
LOCATION:Lecture Room D
PRIORITY:3
TRANSP:0
END:VEVENT
END:VCALENDAR
