BEGIN:VCALENDAR
PRODID:-//AT Content Types//AT Event//EN
VERSION:2.0
METHOD:PUBLISH
BEGIN:VEVENT
DTSTAMP:20260422T194334Z
CREATED:20090114T101311Z
UID:ATEvent-e4d4c60bb4906d243dabd5b6db6c1451
LAST-MODIFIED:20090114T101407Z
SUMMARY:MTH-FA II
DTSTART:20090316T080000Z
DTEND:20090316T093000Z
LOCATION:Lecture Room D
CONTACT:Ngalla Djitte
URL:https://diploma-clear.ictp.it/courses/weekly-schedule/lecture-room-d/mth-fa-ii-5
CLASS:PUBLIC
END:VEVENT
END:VCALENDAR
