BEGIN:VCALENDAR
PRODID:-//AT Content Types//AT Event//EN
VERSION:2.0
METHOD:PUBLISH
BEGIN:VEVENT
DTSTAMP:20260420T185734Z
CREATED:20090114T103817Z
UID:ATEvent-7cebbe79395d39aa858b55da0ef9b59e
LAST-MODIFIED:20090330T100844Z
SUMMARY:MTH-FA II tut.
DTSTART:20090408T070000Z
DTEND:20090408T083000Z
LOCATION:Lecture Room D
CONTACT:Ngalla Djitte
URL:https://diploma-clear.ictp.it/courses/weekly-schedule/lecture-room-d/mth-fa-ii-20
CLASS:PUBLIC
END:VEVENT
END:VCALENDAR
