BEGIN:VCALENDAR
PRODID:-//AT Content Types//AT Event//EN
VERSION:1.0
BEGIN:VEVENT
DTSTART:20090311T080000Z
DTEND:20090311T093000Z
DCREATED:20090114T100839Z
UID:ATEvent-64874199cc370546ba71772424902f1c
SEQUENCE:0
LAST-MODIFIED:20090114T100917Z
SUMMARY:MTH-FA II
LOCATION:Lecture Room D
PRIORITY:3
TRANSP:0
END:VEVENT
END:VCALENDAR
