BEGIN:VCALENDAR
PRODID:-//AT Content Types//AT Event//EN
VERSION:1.0
BEGIN:VEVENT
DTSTART:20090325T080000Z
DTEND:20090325T093000Z
DCREATED:20090114T102514Z
UID:ATEvent-eebe9950a6f593a20bf3f3e078837e99
SEQUENCE:0
LAST-MODIFIED:20090114T102805Z
SUMMARY:MTH-FA II
LOCATION:Lecture Room D
PRIORITY:3
TRANSP:0
END:VEVENT
END:VCALENDAR
