BEGIN:VCALENDAR
PRODID:-//AT Content Types//AT Event//EN
VERSION:1.0
BEGIN:VEVENT
DTSTART:20090202T150000Z
DTEND:20090202T163000Z
DCREATED:20090112T152701Z
UID:ATEvent-eacc9ad8505032afc9a5a0ca9aca2a36
SEQUENCE:0
LAST-MODIFIED:20090112T152740Z
SUMMARY:MTH-FA I
LOCATION:Lecture Room D
PRIORITY:3
TRANSP:0
END:VEVENT
END:VCALENDAR
