BEGIN:VCALENDAR
PRODID:-//AT Content Types//AT Event//EN
VERSION:2.0
METHOD:PUBLISH
BEGIN:VEVENT
DTSTAMP:20260420T004326Z
CREATED:20161208T151059Z
UID:ATEvent-b98c9499d7dc462c8007c500ecc16ae4
LAST-MODIFIED:20161208T151133Z
SUMMARY:MTH-FA
DTSTART:20170329T140000Z
DTEND:20170329T153000Z
LOCATION:Lecture Room D
CONTACT:G. Bellettini
URL:https://diploma-clear.ictp.it/courses/weekly-schedule/lecture-room-d/mth-fa-8
CLASS:PUBLIC
END:VEVENT
END:VCALENDAR
