BEGIN:VCALENDAR
PRODID:-//AT Content Types//AT Event//EN
VERSION:1.0
BEGIN:VEVENT
DTSTART:20160418T070000Z
DTEND:20160418T083000Z
DCREATED:20160329T093005Z
UID:ATEvent-e324291099a84771afd8025553bf5b57
SEQUENCE:0
LAST-MODIFIED:20160329T093045Z
SUMMARY:MTH-FA
LOCATION:Lecture Room D
PRIORITY:3
TRANSP:0
END:VEVENT
END:VCALENDAR
