BEGIN:VCALENDAR
PRODID:-//AT Content Types//AT Event//EN
VERSION:2.0
METHOD:PUBLISH
BEGIN:VEVENT
DTSTAMP:20260423T015632Z
CREATED:20170308T125357Z
UID:ATEvent-c23247784f33451f99fb6538048b82d6
LAST-MODIFIED:20170308T125429Z
SUMMARY:MTH-ERG
DTSTART:20170426T070000Z
DTEND:20170426T083000Z
LOCATION:Lecture Room D
CONTACT:S. Luzzatto
URL:https://diploma-clear.ictp.it/courses/weekly-schedule/lecture-room-d/mth-erg-34
CLASS:PUBLIC
END:VEVENT
END:VCALENDAR
