BEGIN:VCALENDAR
PRODID:-//AT Content Types//AT Event//EN
VERSION:1.0
BEGIN:VEVENT
DTSTART:20120510T120000Z
DTEND:20120510T133000Z
DCREATED:20120215T133156Z
UID:ATEvent-d4cfc8f365ec9a65acbba247954b2c54
SEQUENCE:0
LAST-MODIFIED:20120215T133229Z
SUMMARY:MTH-ERG
LOCATION:Lecture Room D
PRIORITY:3
TRANSP:0
END:VEVENT
END:VCALENDAR
