BEGIN:VCALENDAR
PRODID:-//AT Content Types//AT Event//EN
VERSION:2.0
METHOD:PUBLISH
BEGIN:VEVENT
DTSTAMP:20260422T223200Z
CREATED:20120404T144535Z
UID:ATEvent-019dc6c6c4cda7cfae5bd111dbfe9a55
LAST-MODIFIED:20120404T144713Z
SUMMARY:MTH-ERG
DTSTART:20120517T090000Z
DTEND:20120517T103000Z
LOCATION:Lecture Room D
CONTACT:J. F. Alves
URL:https://diploma-clear.ictp.it/courses/weekly-schedule/lecture-room-d/mth-erg-17
CLASS:PUBLIC
END:VEVENT
END:VCALENDAR
