BEGIN:VCALENDAR
PRODID:-//AT Content Types//AT Event//EN
VERSION:2.0
METHOD:PUBLISH
BEGIN:VEVENT
DTSTAMP:20260420T200724Z
CREATED:20090414T140138Z
UID:ATEvent-2cfc3d2efd99b0999a33ae059e38ce6f
LAST-MODIFIED:20090414T140225Z
SUMMARY:MTH-DG tut.
DTSTART:20090428T070000Z
DTEND:20090428T083000Z
LOCATION:Lecture Room D
CONTACT:Chengbo Li
URL:https://diploma-clear.ictp.it/courses/weekly-schedule/lecture-room-d/mth-dg-tut-5
CLASS:PUBLIC
END:VEVENT
END:VCALENDAR
