BEGIN:VCALENDAR
PRODID:-//AT Content Types//AT Event//EN
VERSION:1.0
BEGIN:VEVENT
DTSTART:20200513T090000Z
DTEND:20200513T103000Z
DCREATED:20200225T105154Z
UID:ATEvent-b681bef2d75742b6bfafcd8f4c5a1cf7
SEQUENCE:0
LAST-MODIFIED:20200512T122854Z
SUMMARY:MTH-DG tut.
LOCATION:Lecture Room D
PRIORITY:3
TRANSP:0
END:VEVENT
END:VCALENDAR
