BEGIN:VCALENDAR
PRODID:-//AT Content Types//AT Event//EN
VERSION:2.0
METHOD:PUBLISH
BEGIN:VEVENT
DTSTAMP:20260423T015619Z
CREATED:20090113T154031Z
UID:ATEvent-02f35622d9268350fbabee748c85c3ff
LAST-MODIFIED:20090226T150726Z
SUMMARY:MTH-DG
DTSTART:20090305T100000Z
DTEND:20090305T113000Z
LOCATION:Lecture Room D
CONTACT:Jayu Li
URL:https://diploma-clear.ictp.it/courses/weekly-schedule/lecture-room-d/mth-dg-9
CLASS:PUBLIC
END:VEVENT
END:VCALENDAR
