BEGIN:VCALENDAR
PRODID:-//AT Content Types//AT Event//EN
VERSION:1.0
BEGIN:VEVENT
DTSTART:20090505T090000Z
DTEND:20090505T103000Z
DCREATED:20090311T113651Z
UID:ATEvent-15e125480561c9937fbed373ede06d59
SEQUENCE:0
LAST-MODIFIED:20090311T113756Z
SUMMARY:MTH-DG
LOCATION:Lecture Room D
PRIORITY:3
TRANSP:0
END:VEVENT
END:VCALENDAR
