BEGIN:VCALENDAR
PRODID:-//AT Content Types//AT Event//EN
VERSION:2.0
METHOD:PUBLISH
BEGIN:VEVENT
DTSTAMP:20260425T225714Z
CREATED:20090113T152722Z
UID:ATEvent-a8c8ebbd70c5fe37f8ad1da386c039bd
LAST-MODIFIED:20090113T152810Z
SUMMARY:MTH-DG
DTSTART:20090205T100000Z
DTEND:20090205T113000Z
LOCATION:Lecture Room D
CONTACT:Jayu Li
URL:https://diploma-clear.ictp.it/courses/weekly-schedule/lecture-room-d/mth-dg-1
CLASS:PUBLIC
END:VEVENT
END:VCALENDAR
