BEGIN:VCALENDAR
PRODID:-//AT Content Types//AT Event//EN
VERSION:2.0
METHOD:PUBLISH
BEGIN:VEVENT
DTSTAMP:20260422T161753Z
CREATED:20090115T102645Z
UID:ATEvent-337836e3dda9fabdf661c6943be4068e
LAST-MODIFIED:20090115T102720Z
SUMMARY:MTH-DE
DTSTART:20090303T130000Z
DTEND:20090303T143000Z
LOCATION:Lecture Room D
CONTACT:Sandro Zagatti
URL:https://diploma-clear.ictp.it/courses/weekly-schedule/lecture-room-d/mth-de
CLASS:PUBLIC
END:VEVENT
END:VCALENDAR
