BEGIN:VCALENDAR
PRODID:-//AT Content Types//AT Event//EN
VERSION:2.0
METHOD:PUBLISH
BEGIN:VEVENT
DTSTAMP:20260422T223141Z
CREATED:20090317T111305Z
UID:ATEvent-fb8dec557c9706990f151aa18f4a1dd9
LAST-MODIFIED:20090421T123222Z
SUMMARY:MTH-DE
DTSTART:20090424T070000Z
DTEND:20090424T083000Z
LOCATION:Lecture Room D
CONTACT:Isabella Ianni
URL:https://diploma-clear.ictp.it/courses/weekly-schedule/lecture-room-d/mth-de-20
CLASS:PUBLIC
END:VEVENT
END:VCALENDAR
