BEGIN:VCALENDAR
PRODID:-//AT Content Types//AT Event//EN
VERSION:1.0
BEGIN:VEVENT
DTSTART:20090518T120000Z
DTEND:20090518T133000Z
DCREATED:20090512T121033Z
UID:ATEvent-bb1fc50106069d849d7ea1ec4d82f5e5
SEQUENCE:0
LAST-MODIFIED:20090512T121124Z
SUMMARY:MTH-DE
LOCATION:Lecture Room D
PRIORITY:3
TRANSP:0
END:VEVENT
END:VCALENDAR
