BEGIN:VCALENDAR
PRODID:-//AT Content Types//AT Event//EN
VERSION:2.0
METHOD:PUBLISH
BEGIN:VEVENT
DTSTAMP:20260420T222554Z
CREATED:20090115T111021Z
UID:ATEvent-31ce891dbab4dbcd9f2c3b9f109f3b1f
LAST-MODIFIED:20090326T085301Z
SUMMARY:MTH-DE
DTSTART:20090414T120000Z
DTEND:20090414T133000Z
LOCATION:Lecture Room D
CONTACT:Stefan Le Coz
URL:https://diploma-clear.ictp.it/courses/weekly-schedule/lecture-room-d/mth-de-12
CLASS:PUBLIC
END:VEVENT
END:VCALENDAR
