BEGIN:VCALENDAR
PRODID:-//AT Content Types//AT Event//EN
VERSION:2.0
METHOD:PUBLISH
BEGIN:VEVENT
DTSTAMP:20260423T015536Z
CREATED:20081008T132044Z
UID:ATEvent-9fcf3ed6ed33c45e11da182047ee905b
LAST-MODIFIED:20081008T132119Z
SUMMARY:MTH-CA tut.
DTSTART:20081010T070000Z
DTEND:20081010T083000Z
LOCATION:Lecture Room D
CONTACT:Dishant Pancholi
URL:https://diploma-clear.ictp.it/courses/weekly-schedule/lecture-room-d/mth-ca-tut
CLASS:PUBLIC
END:VEVENT
END:VCALENDAR
