BEGIN:VCALENDAR
PRODID:-//AT Content Types//AT Event//EN
VERSION:2.0
METHOD:PUBLISH
BEGIN:VEVENT
DTSTAMP:20260420T191405Z
CREATED:20211117T152822Z
UID:ATEvent-68f38d5287ea40f485572502a7320ddd
LAST-MODIFIED:20211215T101712Z
SUMMARY:MTH-CA tut.
DTSTART:20211220T080000Z
DTEND:20211220T093000Z
LOCATION:Lecture Room D
CONTACT:A. Otiman
URL:https://diploma-clear.ictp.it/courses/weekly-schedule/lecture-room-d/mth-ca-tut-21
CLASS:PUBLIC
END:VEVENT
END:VCALENDAR
