BEGIN:VCALENDAR
PRODID:-//AT Content Types//AT Event//EN
VERSION:1.0
BEGIN:VEVENT
DTSTART:20081223T080000Z
DTEND:20081223T093000Z
DCREATED:20081202T162315Z
UID:ATEvent-9d5ac0eafa00dee66fe72172f6eae641
SEQUENCE:0
LAST-MODIFIED:20081202T162351Z
SUMMARY:MTH-CA
LOCATION:Lecture Room D
PRIORITY:3
TRANSP:0
END:VEVENT
END:VCALENDAR
