BEGIN:VCALENDAR
PRODID:-//AT Content Types//AT Event//EN
VERSION:1.0
BEGIN:VEVENT
DTSTART:20101115T080000Z
DTEND:20101115T093000Z
DCREATED:20101025T094958Z
UID:ATEvent-8f8ab986ff051f50ca24d486766b8019
SEQUENCE:0
LAST-MODIFIED:20101025T095110Z
SUMMARY:MTH-CA
LOCATION:Lecture Room D
PRIORITY:3
TRANSP:0
END:VEVENT
END:VCALENDAR
