BEGIN:VCALENDAR
PRODID:-//AT Content Types//AT Event//EN
VERSION:2.0
METHOD:PUBLISH
BEGIN:VEVENT
DTSTAMP:20260420T232530Z
CREATED:20081202T162057Z
UID:ATEvent-e6cae12adfa1aadc1a970f131001a62b
LAST-MODIFIED:20081202T162150Z
SUMMARY:MTH-CA
DTSTART:20081215T100000Z
DTEND:20081215T113000Z
LOCATION:Lecture Room D
CONTACT:Dishant Pancholi
URL:https://diploma-clear.ictp.it/courses/weekly-schedule/lecture-room-d/mth-ca-4
CLASS:PUBLIC
END:VEVENT
END:VCALENDAR
