BEGIN:VCALENDAR
PRODID:-//AT Content Types//AT Event//EN
VERSION:2.0
METHOD:PUBLISH
BEGIN:VEVENT
DTSTAMP:20260422T024542Z
CREATED:20100916T123141Z
UID:ATEvent-8a64801e6bc30d165e35fe9303241f58
LAST-MODIFIED:20100916T123223Z
SUMMARY:MTH-CA
DTSTART:20101011T070000Z
DTEND:20101011T083000Z
LOCATION:Lecture Room D
CONTACT:F. Vlacci
URL:https://diploma-clear.ictp.it/courses/weekly-schedule/lecture-room-d/mth-ca-36
CLASS:PUBLIC
END:VEVENT
END:VCALENDAR
