BEGIN:VCALENDAR
PRODID:-//AT Content Types//AT Event//EN
VERSION:2.0
METHOD:PUBLISH
BEGIN:VEVENT
DTSTAMP:20260425T225212Z
CREATED:20100828T112229Z
UID:ATEvent-a10e648a78f871d048ae4f5180afb2e9
LAST-MODIFIED:20100828T112301Z
SUMMARY:MTH-CA
DTSTART:20100924T140000Z
DTEND:20100924T153000Z
LOCATION:Lecture Room D
CONTACT:F. Vlacci
URL:https://diploma-clear.ictp.it/courses/weekly-schedule/lecture-room-d/mth-ca-29
CLASS:PUBLIC
END:VEVENT
END:VCALENDAR
