BEGIN:VCALENDAR
PRODID:-//AT Content Types//AT Event//EN
VERSION:1.0
BEGIN:VEVENT
DTSTART:20100920T070000Z
DTEND:20100920T083000Z
DCREATED:20100828T111341Z
UID:ATEvent-9401b7814b50fad33bdaa064686350bf
SEQUENCE:0
LAST-MODIFIED:20100828T111412Z
SUMMARY:MTH-CA
LOCATION:Lecture Room D
PRIORITY:3
TRANSP:0
END:VEVENT
END:VCALENDAR
