BEGIN:VCALENDAR
PRODID:-//AT Content Types//AT Event//EN
VERSION:2.0
METHOD:PUBLISH
BEGIN:VEVENT
DTSTAMP:20260422T182958Z
CREATED:20200121T131953Z
UID:ATEvent-61bbc6f709264a409206d0ea2f2e0303
LAST-MODIFIED:20200212T125716Z
SUMMARY:MTH-ALT tut.
DTSTART:20200221T080000Z
DTEND:20200221T093000Z
LOCATION:Lecture Room D
CONTACT:Zakarias Jon Sjostrom Dyrefelt
URL:https://diploma-clear.ictp.it/courses/weekly-schedule/lecture-room-d/mth-alt-tut-12
CLASS:PUBLIC
END:VEVENT
END:VCALENDAR
