BEGIN:VCALENDAR
PRODID:-//AT Content Types//AT Event//EN
VERSION:2.0
METHOD:PUBLISH
BEGIN:VEVENT
DTSTAMP:20260423T035301Z
CREATED:20180122T144846Z
UID:ATEvent-6a21c8f0063a46ed9f8ed37486fd7da1
LAST-MODIFIED:20180122T144907Z
SUMMARY:MTH-ALT
DTSTART:20180214T150000Z
DTEND:20180214T163000Z
LOCATION:Lecture Room D
CONTACT:B. Zimmermann
URL:https://diploma-clear.ictp.it/courses/weekly-schedule/lecture-room-d/mth-alt-54
CLASS:PUBLIC
END:VEVENT
END:VCALENDAR
