BEGIN:VCALENDAR
PRODID:-//AT Content Types//AT Event//EN
VERSION:2.0
METHOD:PUBLISH
BEGIN:VEVENT
DTSTAMP:20260423T001702Z
CREATED:20090113T151433Z
UID:ATEvent-80b7b3b83e4192c78018048e8bb10de1
LAST-MODIFIED:20090113T151515Z
SUMMARY:MTH-ALT
DTSTART:20090203T080000Z
DTEND:20090203T093000Z
LOCATION:Lecture Room D
CONTACT:Dusan Repovs
URL:https://diploma-clear.ictp.it/courses/weekly-schedule/lecture-room-d/mth-alt-3
CLASS:PUBLIC
END:VEVENT
END:VCALENDAR
