BEGIN:VCALENDAR
PRODID:-//AT Content Types//AT Event//EN
VERSION:2.0
METHOD:PUBLISH
BEGIN:VEVENT
DTSTAMP:20260422T161658Z
CREATED:20221108T092913Z
UID:ATEvent-e6be27a7aa934b5cb732409ad9c787b3
LAST-MODIFIED:20221108T100214Z
SUMMARY:MTH-ALG
DTSTART:20230113T080000Z
DTEND:20230113T093000Z
LOCATION:Lecture Room D
CONTACT:L. Göttsche
URL:https://diploma-clear.ictp.it/courses/weekly-schedule/lecture-room-d/mth-alg-77
CLASS:PUBLIC
END:VEVENT
END:VCALENDAR
