BEGIN:VCALENDAR
PRODID:-//AT Content Types//AT Event//EN
VERSION:1.0
BEGIN:VEVENT
DTSTART:20211018T140000Z
DTEND:20211018T153000Z
DCREATED:20210810T100306Z
UID:ATEvent-d24ea29dd26e48f1985394a2d6f6a3f4
SEQUENCE:0
LAST-MODIFIED:20210907T103411Z
SUMMARY:MTH-ALG
LOCATION:Lecture Room D
PRIORITY:3
TRANSP:0
END:VEVENT
END:VCALENDAR
