BEGIN:VCALENDAR
PRODID:-//AT Content Types//AT Event//EN
VERSION:1.0
BEGIN:VEVENT
DTSTART:20140919T120000Z
DTEND:20140919T133000Z
DCREATED:20140902T121407Z
UID:ATEvent-06d663c809b34413856b93f5d2eca1d9
SEQUENCE:0
LAST-MODIFIED:20140902T121436Z
SUMMARY:MTH-ALG
LOCATION:Lecture Room D
PRIORITY:3
TRANSP:0
END:VEVENT
END:VCALENDAR
