BEGIN:VCALENDAR
PRODID:-//AT Content Types//AT Event//EN
VERSION:2.0
METHOD:PUBLISH
BEGIN:VEVENT
DTSTAMP:20260420T232154Z
CREATED:20161221T123928Z
UID:ATEvent-c38fa25b0ddd4392b29cc858f36036d4
LAST-MODIFIED:20161221T123946Z
SUMMARY:MTH-ALG
DTSTART:20170112T130000Z
DTEND:20170112T143000Z
LOCATION:Lecture Room D
CONTACT:L. Göttsche
URL:https://diploma-clear.ictp.it/courses/weekly-schedule/lecture-room-d/mth-alg-29
CLASS:PUBLIC
END:VEVENT
END:VCALENDAR
