BEGIN:VCALENDAR
PRODID:-//AT Content Types//AT Event//EN
VERSION:1.0
BEGIN:VEVENT
DTSTART:20090424T140000Z
DTEND:20090424T153000Z
DCREATED:20090423T133324Z
UID:ATEvent-65bd075acaccfdecec4de02f55e4ffcd
SEQUENCE:0
LAST-MODIFIED:20090423T133657Z
SUMMARY:MTH-AG tut.
LOCATION:Lecture Room D
PRIORITY:3
TRANSP:0
END:VEVENT
END:VCALENDAR
