BEGIN:VCALENDAR
PRODID:-//AT Content Types//AT Event//EN
VERSION:2.0
METHOD:PUBLISH
BEGIN:VEVENT
DTSTAMP:20260420T141238Z
CREATED:20151215T100055Z
UID:ATEvent-24b3e3213b12496186796ceafc354acd
LAST-MODIFIED:20151215T100118Z
SUMMARY:MTH-AG
DTSTART:20160413T120000Z
DTEND:20160413T133000Z
LOCATION:Lecture Room D
CONTACT:T. Abdelgadir
URL:https://diploma-clear.ictp.it/courses/weekly-schedule/lecture-room-d/mth-ag-96
CLASS:PUBLIC
END:VEVENT
END:VCALENDAR
