BEGIN:VCALENDAR
PRODID:-//AT Content Types//AT Event//EN
VERSION:2.0
METHOD:PUBLISH
BEGIN:VEVENT
DTSTAMP:20260422T095828Z
CREATED:20081008T131550Z
UID:ATEvent-92cd9b8bed902817e8fe55e4f8f178d8
LAST-MODIFIED:20081008T131638Z
SUMMARY:MTH-AA
DTSTART:20081002T140000Z
DTEND:20081002T153000Z
LOCATION:Lecture Room D
CONTACT:Ramadas Ramakrishnan
URL:https://diploma-clear.ictp.it/courses/weekly-schedule/lecture-room-d/mth-aa
CLASS:PUBLIC
END:VEVENT
END:VCALENDAR
