BEGIN:VCALENDAR
PRODID:-//AT Content Types//AT Event//EN
VERSION:1.0
BEGIN:VEVENT
DTSTART:20081006T070000Z
DTEND:20081006T083000Z
DCREATED:20081008T131749Z
UID:ATEvent-97dca4f38072db6cb866157775caa432
SEQUENCE:0
LAST-MODIFIED:20081008T131819Z
SUMMARY:MTH-AA
LOCATION:Lecture Room D
PRIORITY:3
TRANSP:0
END:VEVENT
END:VCALENDAR
