BEGIN:VCALENDAR
PRODID:-//AT Content Types//AT Event//EN
VERSION:2.0
METHOD:PUBLISH
BEGIN:VEVENT
DTSTAMP:20260422T223053Z
CREATED:20081008T144741Z
UID:ATEvent-dd82a21a89108d0278b81ce9b7fae1ac
LAST-MODIFIED:20081008T144808Z
SUMMARY:MTH-AA
DTSTART:20081120T100000Z
DTEND:20081120T113000Z
LOCATION:Lecture Room D
CONTACT:Lothar Göttsche
URL:https://diploma-clear.ictp.it/courses/weekly-schedule/lecture-room-d/mth-aa-17
CLASS:PUBLIC
END:VEVENT
END:VCALENDAR
