BEGIN:VCALENDAR
PRODID:-//AT Content Types//AT Event//EN
VERSION:1.0
BEGIN:VEVENT
DTSTART:20081118T100000Z
DTEND:20081118T113000Z
DCREATED:20081008T144652Z
UID:ATEvent-469bc71757dde2a354084d0ff7e2e6d2
SEQUENCE:0
LAST-MODIFIED:20081008T144715Z
SUMMARY:MTH-AA
LOCATION:Lecture Room D
PRIORITY:3
TRANSP:0
END:VEVENT
END:VCALENDAR
