BEGIN:VCALENDAR
PRODID:-//AT Content Types//AT Event//EN
VERSION:1.0
BEGIN:VEVENT
DTSTART:20081003T140000Z
DTEND:20081003T153000Z
DCREATED:20081008T131648Z
UID:ATEvent-bb33c218e52dbebcc8f6c57b2120c6d9
SEQUENCE:0
LAST-MODIFIED:20081008T131718Z
SUMMARY:MTH-AA
LOCATION:Lecture Room D
PRIORITY:3
TRANSP:0
END:VEVENT
END:VCALENDAR
