BEGIN:VCALENDAR
PRODID:-//AT Content Types//AT Event//EN
VERSION:2.0
METHOD:PUBLISH
BEGIN:VEVENT
DTSTAMP:20260423T000044Z
CREATED:20091217T151407Z
UID:ATEvent-0e36e715187e2adad5d76f296cfb63a7
LAST-MODIFIED:20091217T151440Z
SUMMARY:mid-EXAM
DTSTART:20091221T150000Z
DTEND:20091221T163000Z
LOCATION:Lecture Room D
CONTACT:George Thompson
URL:https://diploma-clear.ictp.it/courses/weekly-schedule/lecture-room-d/mid-exam
CLASS:PUBLIC
END:VEVENT
END:VCALENDAR
