BEGIN:VCALENDAR
PRODID:-//AT Content Types//AT Event//EN
VERSION:2.0
METHOD:PUBLISH
BEGIN:VEVENT
DTSTAMP:20260420T211131Z
CREATED:20221209T110511Z
UID:ATEvent-bbd00ee740df4ecca0017b014379cbe1
LAST-MODIFIED:20221209T110511Z
SUMMARY:MTH-RT tut.
DTSTART:20230420T070000Z
DTEND:20230420T083000Z
LOCATION:Lecture Room D
CONTACT:Y.K.Prieto Montanez\, Z. Gui
URL:https://diploma-clear.ictp.it/courses/weekly-schedule/lecture-room-d/lecture.2022-12-09.9116785006
CLASS:PUBLIC
END:VEVENT
END:VCALENDAR
