BEGIN:VCALENDAR
PRODID:-//AT Content Types//AT Event//EN
VERSION:2.0
METHOD:PUBLISH
BEGIN:VEVENT
DTSTAMP:20260420T170346Z
CREATED:20221205T133449Z
UID:ATEvent-a4f5ec236a3d49c6953a91b10dad15dd
LAST-MODIFIED:20221205T133449Z
SUMMARY:MTH-RT (at SISSA)
DTSTART:20230412T070000Z
DTEND:20230412T083000Z
LOCATION:Lecture Room D
CONTACT:F. Villegas
URL:https://diploma-clear.ictp.it/courses/weekly-schedule/lecture-room-d/lecture.2022-12-05.2892465320
CLASS:PUBLIC
END:VEVENT
END:VCALENDAR
