BEGIN:VCALENDAR
PRODID:-//AT Content Types//AT Event//EN
VERSION:1.0
BEGIN:VEVENT
DTSTART:20230330T140000Z
DTEND:20230330T153000Z
DCREATED:20221205T162029Z
UID:ATEvent-4a1641942fff4d04ad52b26c7e810b13
SEQUENCE:0
LAST-MODIFIED:20221205T162029Z
SUMMARY:MTH-AG
LOCATION:Lecture Room D
PRIORITY:3
TRANSP:0
END:VEVENT
END:VCALENDAR
