BEGIN:VCALENDAR
PRODID:-//AT Content Types//AT Event//EN
VERSION:2.0
METHOD:PUBLISH
BEGIN:VEVENT
DTSTAMP:20260420T053602Z
CREATED:20221205T162029Z
UID:ATEvent-882fa646673d441bb0f63e4136888d09
LAST-MODIFIED:20221205T162029Z
SUMMARY:MTH-AG
DTSTART:20230323T150000Z
DTEND:20230323T163000Z
LOCATION:Lecture Room D
CONTACT:L. Göttsche
URL:https://diploma-clear.ictp.it/courses/weekly-schedule/lecture-room-d/lecture.2022-12-05.2292102318
CLASS:PUBLIC
END:VEVENT
END:VCALENDAR
