BEGIN:VCALENDAR
PRODID:-//AT Content Types//AT Event//EN
VERSION:1.0
BEGIN:VEVENT
DTSTART:20230405T090000Z
DTEND:20230405T103000Z
DCREATED:20221205T143912Z
UID:ATEvent-566ba131666743b1a6c50fc3e0120c28
SEQUENCE:0
LAST-MODIFIED:20221205T143912Z
SUMMARY:MTH-ODS (at SISSA)
LOCATION:Lecture Room D
PRIORITY:3
TRANSP:0
END:VEVENT
END:VCALENDAR
